BEGIN:VCALENDAR
VERSION:2.0
PRODID:-//Bruderschaft St. Anna und St. Arbogast - ECPv6.15.20//NONSGML v1.0//EN
CALSCALE:GREGORIAN
METHOD:PUBLISH
X-ORIGINAL-URL:https://www.bruderschaft-anna-arbogast.at
X-WR-CALDESC:Veranstaltungen für Bruderschaft St. Anna und St. Arbogast
REFRESH-INTERVAL;VALUE=DURATION:PT1H
X-Robots-Tag:noindex
X-PUBLISHED-TTL:PT1H
BEGIN:VTIMEZONE
TZID:Europe/Vienna
BEGIN:DAYLIGHT
TZOFFSETFROM:+0100
TZOFFSETTO:+0200
TZNAME:CEST
DTSTART:20250330T010000
END:DAYLIGHT
BEGIN:STANDARD
TZOFFSETFROM:+0200
TZOFFSETTO:+0100
TZNAME:CET
DTSTART:20251026T010000
END:STANDARD
BEGIN:DAYLIGHT
TZOFFSETFROM:+0100
TZOFFSETTO:+0200
TZNAME:CEST
DTSTART:20260329T010000
END:DAYLIGHT
BEGIN:STANDARD
TZOFFSETFROM:+0200
TZOFFSETTO:+0100
TZNAME:CET
DTSTART:20261025T010000
END:STANDARD
BEGIN:DAYLIGHT
TZOFFSETFROM:+0100
TZOFFSETTO:+0200
TZNAME:CEST
DTSTART:20270328T010000
END:DAYLIGHT
BEGIN:STANDARD
TZOFFSETFROM:+0200
TZOFFSETTO:+0100
TZNAME:CET
DTSTART:20271031T010000
END:STANDARD
END:VTIMEZONE
BEGIN:VEVENT
DTSTART;TZID=Europe/Vienna:20260726T183000
DTEND;TZID=Europe/Vienna:20260726T210000
DTSTAMP:20260421T072135
CREATED:20260109T131936Z
LAST-MODIFIED:20260109T131939Z
UID:8106-1785090600-1785099600@www.bruderschaft-anna-arbogast.at
SUMMARY:Anna Tag 26.07.2026
DESCRIPTION:EINLADUNG \n\n\n\nAnna Tag in St. Arbogast \n\n\n\nGottesdienst um 18:30 Uhr in der Kirche St. Arbogast \n\n\n\nanschließend Agape durch die Bruderschaft St. Anna und St. Arbogast. \n\n\n\nEinladung folgt noch
URL:https://www.bruderschaft-anna-arbogast.at/event/anna-tag-26-07-2024-2-2/
ATTACH;FMTTYPE=image/jpeg:https://www.bruderschaft-anna-arbogast.at/wp-content/uploads/Annatag-2024-79-scaled.jpg
END:VEVENT
END:VCALENDAR