BEGIN:VCALENDAR
VERSION:2.0
PRODID:-//Bruderschaft St. Anna und St. Arbogast - ECPv6.15.20//NONSGML v1.0//EN
CALSCALE:GREGORIAN
METHOD:PUBLISH
X-WR-CALNAME:Bruderschaft St. Anna und St. Arbogast
X-ORIGINAL-URL:https://www.bruderschaft-anna-arbogast.at
X-WR-CALDESC:Veranstaltungen für Bruderschaft St. Anna und St. Arbogast
REFRESH-INTERVAL;VALUE=DURATION:PT1H
X-Robots-Tag:noindex
X-PUBLISHED-TTL:PT1H
BEGIN:VTIMEZONE
TZID:Europe/Vienna
BEGIN:DAYLIGHT
TZOFFSETFROM:+0100
TZOFFSETTO:+0200
TZNAME:CEST
DTSTART:20250330T010000
END:DAYLIGHT
BEGIN:STANDARD
TZOFFSETFROM:+0200
TZOFFSETTO:+0100
TZNAME:CET
DTSTART:20251026T010000
END:STANDARD
BEGIN:DAYLIGHT
TZOFFSETFROM:+0100
TZOFFSETTO:+0200
TZNAME:CEST
DTSTART:20260329T010000
END:DAYLIGHT
BEGIN:STANDARD
TZOFFSETFROM:+0200
TZOFFSETTO:+0100
TZNAME:CET
DTSTART:20261025T010000
END:STANDARD
BEGIN:DAYLIGHT
TZOFFSETFROM:+0100
TZOFFSETTO:+0200
TZNAME:CEST
DTSTART:20270328T010000
END:DAYLIGHT
BEGIN:STANDARD
TZOFFSETFROM:+0200
TZOFFSETTO:+0100
TZNAME:CET
DTSTART:20271031T010000
END:STANDARD
END:VTIMEZONE
BEGIN:VEVENT
DTSTART;TZID=Europe/Vienna:20260424T150000
DTEND;TZID=Europe/Vienna:20260424T230000
DTSTAMP:20260420T171239
CREATED:20260309T092329Z
LAST-MODIFIED:20260418T145551Z
UID:8187-1777042800-1777071600@www.bruderschaft-anna-arbogast.at
SUMMARY:Landpartie zur Kartause Buxheim\, Freitag\, den 24. April 2026
DESCRIPTION:Einladung: https://www.bruderschaft-anna-arbogast.at/wp-content/uploads/Einladung-zur-Landpartie-am-24-04-2026_pdf.pdf \n\n\n\n \n\n\n\nEine Anmeldung ist für die Reiseplanung erbeten. Begrenzte Teilnehmerzahl 25 Personen.
URL:https://www.bruderschaft-anna-arbogast.at/event/landpartie-zur-kartause-buxheim-de/
LOCATION:https://www.bruderschaft-anna-arbogast.at/wp-content/uploads/26-04-01-Einladung-zur-Landpartie-zur-Kartause-Buxheim-im-April_Anmeldung.docx
CATEGORIES:Landpartie
ATTACH;FMTTYPE=image/jpeg:https://www.bruderschaft-anna-arbogast.at/wp-content/uploads/Kartausenhof.jpg
END:VEVENT
END:VCALENDAR